{"text_format":"3","workbook":"xlsx","n_sheets":3,"sheets":["spisak","plasman-bodovi","razigravanje"],"not_rendered":{"macros":1,"external_links":1,"defined_names":5},"read":"whole","date_system":"1900"}

{"sheet":"spisak","index":0,"n_rows":116,"n_cols":11,"rows_kept":116}
["Otvoreno prvenstvo RSTSN 2019.",{"$nulls":4},"Juniorke"]
[]
[null,"prezime i ime","klub","rang \nlista","žreb","grupa"]
[1,"Banjac  Katarina","Spark  Beograd",10]
[2,"Popović Ema","Spark  Beograd",16]
[3,"Petričević Milica","Top spin Vranje",0]
[4,"Stevanović Ana","Novi Beograd",11]
[5,"Ristivojević Zorana","Stak Zemun",14]
[6,"Vasić Mina","Stoni Niš",0]
[7,"Popović Natalija","Stoni Niš",23]
[8,"Gvozdenović Katarina","Domboš Mali iđoš",3]
[9,"Veđelek Dora","Domboš Mali iđoš",8]
[10,"Jovanović Luna","Hajduk Veljko",0]
[11,"Krstić Aleksandra","SFS Borac",0]
[12,"Simić  Anđela","SFS Borac",0]
[13,"Šćepanović Sofija","Crvena Zvezda",5]
[14,"Antić Jovana","Dobanovci",17]
[15,"Turkonje Tamara","Rapid",13]
[16,"Ivašković Anđela","Đerdap",0]
[17,"Sladeček Svetlana","Slavija 96",0]
[18,"Sarić Dunja","Slavija 96",0]
[19,"Glišin Jovana","Čoka",15]
[20,"Dobo Anita","Doža",0]
[21,"Đerđ Glorija","Doža",0]
[22,"Stojanovska Sara","Kriva Palanka",0]
[23,"Dimitrijevska Iva","Kriva Palanka",0]
[24,"Stojanovska Ana","Kriva Palanka",0]
[25,"Mihajlovska Bojana","Kriva Palanka",0]
[26,"Nikolić Sofija","Stu Spin SD",4]
[27,"Nikolić Lenka","Stu Spin SD",7]
[28,"Ana Marija Dimitrova","RISOVI Skoplje",0]
{"$rows_empty":84}
[{"$nulls":10}," "]

{"sheet":"plasman-bodovi","index":1,"n_rows":75,"n_cols":14,"rows_kept":75,"hidden":true,"merged":[[17,0,17,1],[18,0,19,0]]}
["A","B","C","D","E","PS","plasman","TOP ",{"$f":"#REF!","v":{"$error":"#REF!"}},{"$nulls":4},{"$f":"#REF!","v":{"$error":"#REF!"}}]
[210,160,140,120,100,250,"1",230]
[180,140,120,100,80,220,"2",200]
[150,120,100,80,60,190,"3-4",180,"broj igrača",{"$f":"COUNT(spisak!A4:A311)","v":28}]
[120,100,80,60,40,160,"5-8",170,"rang 8 najboljih igrača",{"$f":"SUM(SMALL(spisak!D4:D64,{1;2;3;4;5;6;7;8}))","v":0}]
[100,80,60,40,20,140,"9-16",165,"rang turnira",{"$f":"IF(AND(J5>=36,J5<=45),\"B\",IF(AND(J5>=46,J5<=55),\"C\",IF(AND(J5>=56,J5<=65),\"D\",IF(J5>65,\"E\",\"A\"))))","v":"A"}]
[70,60,40,20,10,110,"17-32",160]
[40,30,20,10,5,80,"33-64",155]
[15,10,8,4,2,20,"PUG",150,"glavni žreb"]
[8,6,4,2,1,10,"U",145,"plasman:","ime i prezime","osvojeni bodovi","plasman:","ime i prezime","osvojeni bodovi"]
[{"$nulls":7},140,"1",{"$f":"#REF!","v":{"$error":"#REF!"}},{"$f":"INDEX(INDIRECT($J$6&\"2\"):INDIRECT($J$6&\"10\"),MATCH(I11,$G$2:$G$10,0))","v":210},"33-64",null,{"$f":"INDEX(INDIRECT($J$6&\"2\"):INDIRECT($J$6&\"10\"),MATCH(L11,$G$2:$G$10,0))","v":40}]
[{"$nulls":7},135,"2",{"$f":"#REF!","v":{"$error":"#REF!"}},{"$f":"INDEX(INDIRECT($J$6&\"2\"):INDIRECT($J$6&\"10\"),MATCH(I12,$G$2:$G$10,0))","v":180},"33-64",{"$f":"#REF!","v":{"$error":"#REF!"}},{"$f":"INDEX(INDIRECT($J$6&\"2\"):INDIRECT($J$6&\"10\"),MATCH(L12,$G$2:$G$10,0))","v":40}]
[{"$nulls":7},130,"3-4",{"$f":"#REF!","v":{"$error":"#REF!"}},{"$f":"INDEX(INDIRECT($J$6&\"2\"):INDIRECT($J$6&\"10\"),MATCH(I13,$G$2:$G$10,0))","v":150},"33-64",{"$f":"#REF!","v":{"$error":"#REF!"}},{"$f":"INDEX(INDIRECT($J$6&\"2\"):INDIRECT($J$6&\"10\"),MATCH(L13,$G$2:$G$10,0))","v":40}]
[{"$nulls":8},"3-4",{"$f":"#REF!","v":{"$error":"#REF!"}},{"$f":"INDEX(INDIRECT($J$6&\"2\"):INDIRECT($J$6&\"10\"),MATCH(I14,$G$2:$G$10,0))","v":150},"33-64",{"$f":"#REF!","v":{"$error":"#REF!"}},{"$f":"INDEX(INDIRECT($J$6&\"2\"):INDIRECT($J$6&\"10\"),MATCH(L14,$G$2:$G$10,0))","v":40}]
[{"$nulls":8},"5-8",{"$f":"#REF!","v":{"$error":"#REF!"}},{"$f":"INDEX(INDIRECT($J$6&\"2\"):INDIRECT($J$6&\"10\"),MATCH(I15,$G$2:$G$10,0))","v":120},"33-64",null,{"$f":"INDEX(INDIRECT($J$6&\"2\"):INDIRECT($J$6&\"10\"),MATCH(L15,$G$2:$G$10,0))","v":40}]
[{"$nulls":8},"5-8",{"$f":"#REF!","v":{"$error":"#REF!"}},{"$f":"INDEX(INDIRECT($J$6&\"2\"):INDIRECT($J$6&\"10\"),MATCH(I16,$G$2:$G$10,0))","v":120},"33-64",{"$f":"#REF!","v":{"$error":"#REF!"}},{"$f":"INDEX(INDIRECT($J$6&\"2\"):INDIRECT($J$6&\"10\"),MATCH(L16,$G$2:$G$10,0))","v":40}]
[{"$nulls":8},"5-8",{"$f":"#REF!","v":{"$error":"#REF!"}},{"$f":"INDEX(INDIRECT($J$6&\"2\"):INDIRECT($J$6&\"10\"),MATCH(I17,$G$2:$G$10,0))","v":120},"33-64",{"$f":"#REF!","v":{"$error":"#REF!"}},{"$f":"INDEX(INDIRECT($J$6&\"2\"):INDIRECT($J$6&\"10\"),MATCH(L17,$G$2:$G$10,0))","v":40}]
["rejting turnira",{"$nulls":7},"5-8",{"$f":"#REF!","v":{"$error":"#REF!"}},{"$f":"INDEX(INDIRECT($J$6&\"2\"):INDIRECT($J$6&\"10\"),MATCH(I18,$G$2:$G$10,0))","v":120},"33-64",null,{"$f":"INDEX(INDIRECT($J$6&\"2\"):INDIRECT($J$6&\"10\"),MATCH(L18,$G$2:$G$10,0))","v":40}]
["rejting","zbir bodova",{"$nulls":6},"9-16",{"$f":"#REF!","v":{"$error":"#REF!"}},{"$f":"INDEX(INDIRECT($J$6&\"2\"):INDIRECT($J$6&\"10\"),MATCH(I19,$G$2:$G$10,0))","v":100},"33-64",null,{"$f":"INDEX(INDIRECT($J$6&\"2\"):INDIRECT($J$6&\"10\"),MATCH(L19,$G$2:$G$10,0))","v":40}]
[null,"najboljih 8 igrača",{"$nulls":6},"9-16",{"$f":"#REF!","v":{"$error":"#REF!"}},{"$f":"INDEX(INDIRECT($J$6&\"2\"):INDIRECT($J$6&\"10\"),MATCH(I20,$G$2:$G$10,0))","v":100},"33-64",{"$f":"#REF!","v":{"$error":"#REF!"}},{"$f":"INDEX(INDIRECT($J$6&\"2\"):INDIRECT($J$6&\"10\"),MATCH(L20,$G$2:$G$10,0))","v":40}]
["B","36-45",{"$nulls":6},"9-16",{"$f":"#REF!","v":{"$error":"#REF!"}},{"$f":"INDEX(INDIRECT($J$6&\"2\"):INDIRECT($J$6&\"10\"),MATCH(I21,$G$2:$G$10,0))","v":100},"33-64",{"$f":"#REF!","v":{"$error":"#REF!"}},{"$f":"INDEX(INDIRECT($J$6&\"2\"):INDIRECT($J$6&\"10\"),MATCH(L21,$G$2:$G$10,0))","v":40}]
["C","46-55",{"$nulls":6},"9-16",{"$f":"#REF!","v":{"$error":"#REF!"}},{"$f":"INDEX(INDIRECT($J$6&\"2\"):INDIRECT($J$6&\"10\"),MATCH(I22,$G$2:$G$10,0))","v":100},"33-64",null,{"$f":"INDEX(INDIRECT($J$6&\"2\"):INDIRECT($J$6&\"10\"),MATCH(L22,$G$2:$G$10,0))","v":40}]
["D","56-65",{"$nulls":6},"9-16",{"$f":"#REF!","v":{"$error":"#REF!"}},{"$f":"INDEX(INDIRECT($J$6&\"2\"):INDIRECT($J$6&\"10\"),MATCH(I23,$G$2:$G$10,0))","v":100},"33-64",{"$f":"#REF!","v":{"$error":"#REF!"}},{"$f":"INDEX(INDIRECT($J$6&\"2\"):INDIRECT($J$6&\"10\"),MATCH(L23,$G$2:$G$10,0))","v":40}]
["E",">65",{"$nulls":6},"9-16",{"$f":"#REF!","v":{"$error":"#REF!"}},{"$f":"INDEX(INDIRECT($J$6&\"2\"):INDIRECT($J$6&\"10\"),MATCH(I24,$G$2:$G$10,0))","v":100},"33-64",{"$f":"#REF!","v":{"$error":"#REF!"}},{"$f":"INDEX(INDIRECT($J$6&\"2\"):INDIRECT($J$6&\"10\"),MATCH(L24,$G$2:$G$10,0))","v":40}]
[{"$nulls":8},"9-16",{"$f":"#REF!","v":{"$error":"#REF!"}},{"$f":"INDEX(INDIRECT($J$6&\"2\"):INDIRECT($J$6&\"10\"),MATCH(I25,$G$2:$G$10,0))","v":100},"33-64",{"$f":"#REF!","v":{"$error":"#REF!"}},{"$f":"INDEX(INDIRECT($J$6&\"2\"):INDIRECT($J$6&\"10\"),MATCH(L25,$G$2:$G$10,0))","v":40}]
[{"$nulls":8},"9-16",{"$f":"#REF!","v":{"$error":"#REF!"}},{"$f":"INDEX(INDIRECT($J$6&\"2\"):INDIRECT($J$6&\"10\"),MATCH(I26,$G$2:$G$10,0))","v":100},"33-64",null,{"$f":"INDEX(INDIRECT($J$6&\"2\"):INDIRECT($J$6&\"10\"),MATCH(L26,$G$2:$G$10,0))","v":40}]
[{"$nulls":8},"17-32",{"$f":"#REF!","v":{"$error":"#REF!"}},{"$f":"INDEX(INDIRECT($J$6&\"2\"):INDIRECT($J$6&\"10\"),MATCH(I27,$G$2:$G$10,0))","v":70},"33-64",null,{"$f":"INDEX(INDIRECT($J$6&\"2\"):INDIRECT($J$6&\"10\"),MATCH(L27,$G$2:$G$10,0))","v":40}]
[{"$nulls":8},"17-32",{"$f":"#REF!","v":{"$error":"#REF!"}},{"$f":"INDEX(INDIRECT($J$6&\"2\"):INDIRECT($J$6&\"10\"),MATCH(I28,$G$2:$G$10,0))","v":70},"33-64",{"$f":"#REF!","v":{"$error":"#REF!"}},{"$f":"INDEX(INDIRECT($J$6&\"2\"):INDIRECT($J$6&\"10\"),MATCH(L28,$G$2:$G$10,0))","v":40}]
[{"$nulls":8},"17-32",{"$f":"#REF!","v":{"$error":"#REF!"}},{"$f":"INDEX(INDIRECT($J$6&\"2\"):INDIRECT($J$6&\"10\"),MATCH(I29,$G$2:$G$10,0))","v":70},"33-64",{"$f":"#REF!","v":{"$error":"#REF!"}},{"$f":"INDEX(INDIRECT($J$6&\"2\"):INDIRECT($J$6&\"10\"),MATCH(L29,$G$2:$G$10,0))","v":40}]
[{"$nulls":8},"17-32",{"$f":"#REF!","v":{"$error":"#REF!"}},{"$f":"INDEX(INDIRECT($J$6&\"2\"):INDIRECT($J$6&\"10\"),MATCH(I30,$G$2:$G$10,0))","v":70},"33-64",{"$f":"#REF!","v":{"$error":"#REF!"}},{"$f":"INDEX(INDIRECT($J$6&\"2\"):INDIRECT($J$6&\"10\"),MATCH(L30,$G$2:$G$10,0))","v":40}]
[{"$nulls":8},"17-32",{"$f":"#REF!","v":{"$error":"#REF!"}},{"$f":"INDEX(INDIRECT($J$6&\"2\"):INDIRECT($J$6&\"10\"),MATCH(I31,$G$2:$G$10,0))","v":70},"33-64",null,{"$f":"INDEX(INDIRECT($J$6&\"2\"):INDIRECT($J$6&\"10\"),MATCH(L31,$G$2:$G$10,0))","v":40}]
[{"$nulls":8},"17-32",{"$f":"#REF!","v":{"$error":"#REF!"}},{"$f":"INDEX(INDIRECT($J$6&\"2\"):INDIRECT($J$6&\"10\"),MATCH(I32,$G$2:$G$10,0))","v":70},"33-64",{"$f":"#REF!","v":{"$error":"#REF!"}},{"$f":"INDEX(INDIRECT($J$6&\"2\"):INDIRECT($J$6&\"10\"),MATCH(L32,$G$2:$G$10,0))","v":40}]
[{"$nulls":8},"17-32",{"$f":"#REF!","v":{"$error":"#REF!"}},{"$f":"INDEX(INDIRECT($J$6&\"2\"):INDIRECT($J$6&\"10\"),MATCH(I33,$G$2:$G$10,0))","v":70},"33-64",{"$f":"#REF!","v":{"$error":"#REF!"}},{"$f":"INDEX(INDIRECT($J$6&\"2\"):INDIRECT($J$6&\"10\"),MATCH(L33,$G$2:$G$10,0))","v":40}]
[{"$nulls":8},"17-32",{"$f":"#REF!","v":{"$error":"#REF!"}},{"$f":"INDEX(INDIRECT($J$6&\"2\"):INDIRECT($J$6&\"10\"),MATCH(I34,$G$2:$G$10,0))","v":70},"33-64",null,{"$f":"INDEX(INDIRECT($J$6&\"2\"):INDIRECT($J$6&\"10\"),MATCH(L34,$G$2:$G$10,0))","v":40}]
[{"$nulls":8},"17-32",{"$f":"#REF!","v":{"$error":"#REF!"}},{"$f":"INDEX(INDIRECT($J$6&\"2\"):INDIRECT($J$6&\"10\"),MATCH(I35,$G$2:$G$10,0))","v":70},"33-64",null,{"$f":"INDEX(INDIRECT($J$6&\"2\"):INDIRECT($J$6&\"10\"),MATCH(L35,$G$2:$G$10,0))","v":40}]
[{"$nulls":8},"17-32",{"$f":"#REF!","v":{"$error":"#REF!"}},{"$f":"INDEX(INDIRECT($J$6&\"2\"):INDIRECT($J$6&\"10\"),MATCH(I36,$G$2:$G$10,0))","v":70},"33-64",{"$f":"#REF!","v":{"$error":"#REF!"}},{"$f":"INDEX(INDIRECT($J$6&\"2\"):INDIRECT($J$6&\"10\"),MATCH(L36,$G$2:$G$10,0))","v":40}]
[{"$nulls":8},"17-32",{"$f":"#REF!","v":{"$error":"#REF!"}},{"$f":"INDEX(INDIRECT($J$6&\"2\"):INDIRECT($J$6&\"10\"),MATCH(I37,$G$2:$G$10,0))","v":70},"33-64",{"$f":"#REF!","v":{"$error":"#REF!"}},{"$f":"INDEX(INDIRECT($J$6&\"2\"):INDIRECT($J$6&\"10\"),MATCH(L37,$G$2:$G$10,0))","v":40}]
[{"$nulls":8},"17-32",{"$f":"#REF!","v":{"$error":"#REF!"}},{"$f":"INDEX(INDIRECT($J$6&\"2\"):INDIRECT($J$6&\"10\"),MATCH(I38,$G$2:$G$10,0))","v":70},"33-64",null,{"$f":"INDEX(INDIRECT($J$6&\"2\"):INDIRECT($J$6&\"10\"),MATCH(L38,$G$2:$G$10,0))","v":40}]
[{"$nulls":8},"17-32",{"$f":"#REF!","v":{"$error":"#REF!"}},{"$f":"INDEX(INDIRECT($J$6&\"2\"):INDIRECT($J$6&\"10\"),MATCH(I39,$G$2:$G$10,0))","v":70},"33-64",{"$f":"#REF!","v":{"$error":"#REF!"}},{"$f":"INDEX(INDIRECT($J$6&\"2\"):INDIRECT($J$6&\"10\"),MATCH(L39,$G$2:$G$10,0))","v":40}]
[{"$nulls":8},"17-32",{"$f":"#REF!","v":{"$error":"#REF!"}},{"$f":"INDEX(INDIRECT($J$6&\"2\"):INDIRECT($J$6&\"10\"),MATCH(I40,$G$2:$G$10,0))","v":70},"33-64",{"$f":"#REF!","v":{"$error":"#REF!"}},{"$f":"INDEX(INDIRECT($J$6&\"2\"):INDIRECT($J$6&\"10\"),MATCH(L40,$G$2:$G$10,0))","v":40}]
[{"$nulls":8},"17-32",{"$f":"#REF!","v":{"$error":"#REF!"}},{"$f":"INDEX(INDIRECT($J$6&\"2\"):INDIRECT($J$6&\"10\"),MATCH(I41,$G$2:$G$10,0))","v":70},"33-64",{"$f":"#REF!","v":{"$error":"#REF!"}},{"$f":"INDEX(INDIRECT($J$6&\"2\"):INDIRECT($J$6&\"10\"),MATCH(L41,$G$2:$G$10,0))","v":40}]
[{"$nulls":8},"17-32",{"$f":"#REF!","v":{"$error":"#REF!"}},{"$f":"INDEX(INDIRECT($J$6&\"2\"):INDIRECT($J$6&\"10\"),MATCH(I42,$G$2:$G$10,0))","v":70},"33-64",null,{"$f":"INDEX(INDIRECT($J$6&\"2\"):INDIRECT($J$6&\"10\"),MATCH(L42,$G$2:$G$10,0))","v":40}]
[]
[{"$nulls":8},"kvalifikacije"]
[{"$nulls":8},"3. mesto u grupi","broj pobeda","bodovi","4. mesto u grupi","broj pobeda","bodovi"]
[{"$nulls":8},{"$f":"#REF!","v":{"$error":"#REF!"}},null,{"$f":"IF(J46=0,\"8\",INDIRECT($J$6&\"9\")*J46)","v":"8"},{"$f":"#REF!","v":{"$error":"#REF!"}},{"$f":"IF(ISERROR(L46),\"\",COUNTIF(#REF!,L46))","v":""},{"$f":"IF(ISERROR(L46),\"\",IF(M46=0,\"8\",INDIRECT($J$6&\"9\")*M46))","v":""}]
[{"$nulls":8},{"$f":"#REF!","v":{"$error":"#REF!"}},{"$f":"IF(ISERROR(L47),\"\",COUNTIF(#REF!,I47))","v":""},{"$f":"IF(J47=0,\"8\",INDIRECT($J$6&\"9\")*J47)","v":{"$error":"#VALUE!"}},{"$f":"#REF!","v":{"$error":"#REF!"}},{"$f":"IF(ISERROR(L47),\"\",COUNTIF(#REF!,L47))","v":""},{"$f":"IF(ISERROR(L47),\"\",IF(M47=0,\"8\",INDIRECT($J$6&\"9\")*M47))","v":""}]
[{"$nulls":8},{"$f":"#REF!","v":{"$error":"#REF!"}},{"$f":"IF(ISERROR(L48),\"\",COUNTIF(#REF!,I48))","v":""},{"$error":"#VALUE!"},{"$f":"#REF!","v":{"$error":"#REF!"}},{"$f":"IF(ISERROR(L48),\"\",COUNTIF(#REF!,L48))","v":""},""]
[{"$nulls":8},{"$f":"#REF!","v":{"$error":"#REF!"}},{"$f":"IF(ISERROR(L49),\"\",COUNTIF(#REF!,I49))","v":{"$error":"#REF!"}},{"$error":"#REF!"}]
[{"$nulls":8},{"$f":"#REF!","v":{"$error":"#REF!"}},{"$f":"IF(ISERROR(L50),\"\",COUNTIF(#REF!,I50))","v":""},{"$error":"#VALUE!"},{"$f":"#REF!","v":{"$error":"#REF!"}},{"$f":"IF(ISERROR(L50),\"\",COUNTIF(#REF!,L50))","v":""},""]
[{"$nulls":8},{"$f":"#REF!","v":{"$error":"#REF!"}},{"$f":"IF(ISERROR(L51),\"\",COUNTIF(#REF!,I51))","v":""},{"$error":"#VALUE!"},{"$f":"#REF!","v":{"$error":"#REF!"}},{"$f":"IF(ISERROR(L51),\"\",COUNTIF(#REF!,L51))","v":""},""]
[{"$nulls":8},{"$f":"#REF!","v":{"$error":"#REF!"}},{"$f":"IF(ISERROR(L52),\"\",COUNTIF(#REF!,I52))","v":""},{"$error":"#VALUE!"},{"$f":"#REF!","v":{"$error":"#REF!"}},{"$f":"IF(ISERROR(L52),\"\",COUNTIF(#REF!,L52))","v":""},""]
[{"$nulls":8},{"$f":"#REF!","v":{"$error":"#REF!"}},{"$f":"IF(ISERROR(L53),\"\",COUNTIF(#REF!,I53))","v":""},{"$error":"#VALUE!"},{"$f":"#REF!","v":{"$error":"#REF!"}},{"$f":"IF(ISERROR(L53),\"\",COUNTIF(#REF!,L53))","v":""},""]
[{"$nulls":8},{"$f":"#REF!","v":{"$error":"#REF!"}},{"$f":"IF(ISERROR(L54),\"\",COUNTIF(#REF!,I54))","v":""},{"$error":"#VALUE!"},{"$f":"#REF!","v":{"$error":"#REF!"}},{"$f":"IF(ISERROR(L54),\"\",COUNTIF(#REF!,L54))","v":""},""]
[{"$nulls":8},{"$f":"#REF!","v":{"$error":"#REF!"}},{"$f":"IF(ISERROR(L55),\"\",COUNTIF(#REF!,I55))","v":""},{"$error":"#VALUE!"},{"$f":"#REF!","v":{"$error":"#REF!"}},{"$f":"IF(ISERROR(L55),\"\",COUNTIF(#REF!,L55))","v":""},""]
[{"$nulls":8},{"$f":"#REF!","v":{"$error":"#REF!"}},{"$f":"IF(ISERROR(L56),\"\",COUNTIF(#REF!,I56))","v":""},{"$error":"#VALUE!"},{"$f":"#REF!","v":{"$error":"#REF!"}},{"$f":"IF(ISERROR(L56),\"\",COUNTIF(#REF!,L56))","v":""},""]
[{"$nulls":8},{"$f":"#REF!","v":{"$error":"#REF!"}},{"$f":"IF(ISERROR(L57),\"\",COUNTIF(#REF!,I57))","v":""},{"$error":"#VALUE!"},{"$f":"#REF!","v":{"$error":"#REF!"}},{"$f":"IF(ISERROR(L57),\"\",COUNTIF(#REF!,L57))","v":""},""]
[{"$nulls":8},{"$f":"#REF!","v":{"$error":"#REF!"}},{"$f":"IF(ISERROR(L58),\"\",COUNTIF(#REF!,I58))","v":{"$error":"#REF!"}},{"$error":"#REF!"}]
[{"$nulls":8},{"$f":"#REF!","v":{"$error":"#REF!"}},{"$f":"IF(ISERROR(L59),\"\",COUNTIF(#REF!,I59))","v":""},{"$error":"#VALUE!"},{"$f":"#REF!","v":{"$error":"#REF!"}},{"$f":"IF(ISERROR(L59),\"\",COUNTIF(#REF!,L59))","v":""},""]
[{"$nulls":8},{"$f":"#REF!","v":{"$error":"#REF!"}},{"$f":"IF(ISERROR(L60),\"\",COUNTIF(#REF!,I60))","v":""},{"$error":"#VALUE!"},{"$f":"#REF!","v":{"$error":"#REF!"}},{"$f":"IF(ISERROR(L60),\"\",COUNTIF(#REF!,L60))","v":""},""]
[{"$nulls":8},{"$f":"#REF!","v":{"$error":"#REF!"}},{"$f":"IF(ISERROR(L61),\"\",COUNTIF(#REF!,I61))","v":""},{"$error":"#VALUE!"},{"$f":"#REF!","v":{"$error":"#REF!"}},{"$f":"IF(ISERROR(L61),\"\",COUNTIF(#REF!,L61))","v":""},{"$f":"IF(ISERROR(L61),\"\",IF(M61=0,\"8\",INDIRECT($J$6&\"9\")*M61))","v":""}]
[{"$nulls":11},{"$f":"#REF!","v":{"$error":"#REF!"}},{"$f":"IF(ISERROR(L62),\"\",COUNTIF(#REF!,L62))","v":""},{"$f":"IF(ISERROR(L62),\"\",INDIRECT($J$6&\"9\"))","v":""}]
[{"$nulls":8},{"$f":"#REF!","v":{"$error":"#REF!"}},{"$f":"IF(ISERROR(L63),\"\",COUNTIF(#REF!,I63))","v":""},{"$error":"#VALUE!"},{"$f":"#REF!","v":{"$error":"#REF!"}},1,""]
[{"$nulls":8},{"$f":"#REF!","v":{"$error":"#REF!"}},{"$f":"IF(ISERROR(L64),\"\",COUNTIF(#REF!,I64))","v":""},{"$f":"INDIRECT($J$6&\"8\")*J64","v":{"$error":"#VALUE!"}},{"$f":"#REF!","v":{"$error":"#REF!"}},{"$f":"IF(ISERROR(L64),\"\",COUNTIF(#REF!,L64))","v":""},""]
[{"$nulls":8},{"$f":"#REF!","v":{"$error":"#REF!"}},{"$f":"IF(ISERROR(L65),\"\",COUNTIF(#REF!,I65))","v":""},{"$error":"#VALUE!"},{"$f":"#REF!","v":{"$error":"#REF!"}},{"$f":"IF(ISERROR(L65),\"\",COUNTIF(#REF!,L65))","v":""},""]
[{"$nulls":8},{"$f":"#REF!","v":{"$error":"#REF!"}},{"$f":"IF(ISERROR(L66),\"\",COUNTIF(#REF!,I66))","v":""},{"$error":"#VALUE!"},{"$f":"#REF!","v":{"$error":"#REF!"}},{"$f":"IF(ISERROR(L66),\"\",COUNTIF(#REF!,L66))","v":""},""]
[{"$nulls":8},{"$f":"#REF!","v":{"$error":"#REF!"}},{"$f":"IF(ISERROR(L67),\"\",COUNTIF(#REF!,I67))","v":""},{"$error":"#VALUE!"},{"$f":"#REF!","v":{"$error":"#REF!"}},{"$f":"IF(ISERROR(L67),\"\",COUNTIF(#REF!,L67))","v":""},""]
[{"$nulls":8},{"$f":"#REF!","v":{"$error":"#REF!"}},{"$f":"IF(ISERROR(L68),\"\",COUNTIF(#REF!,I68))","v":""},{"$error":"#VALUE!"},{"$f":"#REF!","v":{"$error":"#REF!"}},{"$f":"IF(ISERROR(L68),\"\",COUNTIF(#REF!,L68))","v":""},""]
[{"$nulls":8},{"$f":"#REF!","v":{"$error":"#REF!"}},{"$f":"IF(ISERROR(L69),\"\",COUNTIF(#REF!,I69))","v":""},{"$error":"#VALUE!"},{"$f":"#REF!","v":{"$error":"#REF!"}},{"$f":"IF(ISERROR(L69),\"\",COUNTIF(#REF!,L69))","v":""},""]
[{"$nulls":8},{"$f":"#REF!","v":{"$error":"#REF!"}},{"$f":"IF(ISERROR(L70),\"\",COUNTIF(#REF!,I70))","v":""},{"$error":"#VALUE!"},{"$f":"#REF!","v":{"$error":"#REF!"}},{"$f":"IF(ISERROR(L70),\"\",COUNTIF(#REF!,L70))","v":""},""]
[{"$nulls":8},{"$f":"#REF!","v":{"$error":"#REF!"}},{"$f":"IF(ISERROR(L71),\"\",COUNTIF(#REF!,I71))","v":""},{"$error":"#VALUE!"},{"$f":"#REF!","v":{"$error":"#REF!"}},{"$f":"IF(ISERROR(L71),\"\",COUNTIF(#REF!,L71))","v":""},""]
[{"$nulls":8},{"$f":"#REF!","v":{"$error":"#REF!"}},{"$f":"IF(ISERROR(L72),\"\",COUNTIF(#REF!,I72))","v":""},{"$error":"#VALUE!"},{"$f":"#REF!","v":{"$error":"#REF!"}},{"$f":"IF(ISERROR(L72),\"\",COUNTIF(#REF!,L72))","v":""},""]
[{"$nulls":8},{"$f":"#REF!","v":{"$error":"#REF!"}},{"$f":"IF(ISERROR(L73),\"\",COUNTIF(#REF!,I73))","v":""},{"$error":"#VALUE!"},{"$f":"#REF!","v":{"$error":"#REF!"}},{"$f":"IF(ISERROR(L73),\"\",COUNTIF(#REF!,L73))","v":""},""]
[{"$nulls":8},{"$f":"#REF!","v":{"$error":"#REF!"}},{"$f":"IF(ISERROR(L74),\"\",COUNTIF(#REF!,I74))","v":""},{"$error":"#VALUE!"},{"$f":"#REF!","v":{"$error":"#REF!"}},{"$f":"IF(ISERROR(L74),\"\",COUNTIF(#REF!,L74))","v":""},""]
[{"$nulls":8},{"$f":"#REF!","v":{"$error":"#REF!"}},{"$f":"IF(ISERROR(L75),\"\",COUNTIF(#REF!,I75))","v":""},{"$error":"#VALUE!"},{"$f":"#REF!","v":{"$error":"#REF!"}},{"$f":"IF(ISERROR(L75),\"\",COUNTIF(#REF!,L75))","v":""},""]

{"sheet":"razigravanje","index":2,"n_rows":60,"n_cols":39,"rows_kept":60,"hidden":true,"merged":[[2,9,2,15],[2,16,2,22],[2,26,2,31],[2,32,2,37],[3,2,3,8],[3,9,4,13],[3,14,4,14],[3,15,4,15],[3,24,4,24],[3,25,4,29],[3,30,4,30],[3,31,4,31],[4,0,5,0],[4,1,5,1],[4,2,5,8],[5,9,6,9],[5,10,6,10],[5,11,6,11],[5,12,6,12],[5,13,6,13],[5,14,6,14],[5,15,6,15],[5,16,6,20],[5,21,6,21],[5,22,6,22],[5,25,6,25],[5,26,6,26],[5,27,6,27],[5,28,6,28],[5,29,6,29],[5,30,6,30],[5,31,6,31],[5,32,6,36],[5,37,6,37],[5,38,6,38],[6,0,7,0],[6,1,7,1],[6,2,7,8],[7,9,8,13],[7,14,8,14],[7,15,8,15],[7,16,8,16],[7,17,8,17],[7,18,8,18],[7,19,8,19],[7,20,8,20],[7,21,8,21],[7,22,8,22],[7,24,8,24],[7,25,8,29],[7,30,8,30],[7,31,8,31],[7,32,8,32],[7,33,8,33],[7,34,8,34],[7,35,8,35],[7,36,8,36],[7,37,8,37],[7,38,8,38],[8,0,9,0],[8,1,9,1],[8,2,9,8],[9,9,10,9],[9,10,10,10],[9,11,10,11],[9,12,10,12],[9,13,10,13],[9,14,10,14],[9,15,10,15],[9,25,10,25],[9,26,10,26],[9,27,10,27],[9,28,10,28],[9,29,10,29],[9,30,10,30],[9,31,10,31],[10,0,11,0],[10,1,11,1],[10,2,11,8],[11,9,12,13],[11,14,12,14],[11,15,12,15],[11,24,12,24],[11,25,12,29],[11,30,12,30],[11,31,12,31],[12,0,13,0],[12,1,13,1],[12,2,13,8],[13,9,14,9],[13,10,14,10],[13,11,14,11],[13,12,14,12],[13,13,14,13],[13,14,14,14],[13,15,14,15],[13,16,14,20],[13,21,14,21],[13,22,14,22],[13,25,14,25],[13,26,14,26],[13,27,14,27],[13,28,14,28],[13,29,14,29],[13,30,14,30],[13,31,14,31],[13,32,14,36],[13,37,14,37],[13,38,14,38],[14,0,15,0],[14,1,15,1],[14,2,15,8],[15,9,16,13],[15,14,16,14],[15,15,16,15],[15,16,16,16],[15,17,16,17],[15,18,16,18],[15,19,16,19],[15,20,16,20],[15,21,16,21],[15,22,16,22],[15,24,16,24],[15,25,16,29],[15,30,16,30],[15,31,16,31],[15,32,16,32],[15,33,16,33],[15,34,16,34],[15,35,16,35],[15,36,16,36],[15,37,16,37],[15,38,16,38],[16,0,17,0],[16,1,17,1],[16,2,17,8],[17,9,18,9],[17,10,18,10],[17,11,18,11],[17,12,18,12],[17,13,18,13],[17,14,18,14],[17,15,18,15],[17,25,18,25],[17,26,18,26],[17,27,18,27],[17,28,18,28],[17,29,18,29],[17,30,18,30],[17,31,18,31],[18,0,19,0],[18,1,19,1],[18,2,19,8],[19,9,20,13],[19,14,20,14],[19,15,20,15],[19,24,20,24],[19,25,20,29],[19,30,20,30],[19,31,20,31],[20,0,21,0],[20,1,21,1],[20,2,21,8],[21,9,22,9],[21,10,22,10],[21,11,22,11],[21,12,22,12],[21,13,22,13],[21,14,22,14],[21,15,22,15],[21,16,22,20],[21,21,22,21],[21,22,22,22],[21,25,22,25],[21,26,22,26],[21,27,22,27],[21,28,22,28],[21,29,22,29],[21,30,22,30],[21,31,22,31],[21,32,22,36],[21,37,22,37],[21,38,22,38],[22,0,23,0],[22,1,23,1],[22,2,23,8],[23,9,24,13],[23,14,24,14],[23,15,24,15],[23,16,24,16],[23,17,24,17],[23,18,24,18],[23,19,24,19],[23,20,24,20],[23,21,24,21],[23,22,24,22],[23,24,24,24],[23,25,24,29],[23,30,24,30],[23,31,24,31],[23,32,24,32],[23,33,24,33],[23,34,24,34],[23,35,24,35],[23,36,24,36],[23,37,24,37],[23,38,24,38],[24,0,25,0],[24,1,25,1],[24,2,25,8],[25,9,26,9],[25,10,26,10],[25,11,26,11],[25,12,26,12],[25,13,26,13],[25,14,26,14],[25,15,26,15],[25,25,26,25],[25,26,26,26],[25,27,26,27],[25,28,26,28],[25,29,26,29],[25,30,26,30],[25,31,26,31],[26,0,27,0],[26,1,27,1],[26,2,27,8],[27,9,28,13],[27,14,28,14],[27,15,28,15],[27,24,28,24],[27,25,28,29],[27,30,28,30],[27,31,28,31],[28,0,29,0],[28,1,29,1],[28,2,29,8],[29,9,30,9],[29,10,30,10],[29,11,30,11],[29,12,30,12],[29,13,30,13],[29,14,30,14],[29,15,30,15],[29,16,30,20],[29,21,30,21],[29,22,30,22],[29,25,30,25],[29,26,30,26],[29,27,30,27],[29,28,30,28],[29,29,30,29],[29,30,30,30],[29,31,30,31],[29,32,30,36],[29,37,30,37],[29,38,30,38],[30,0,31,0],[30,1,31,1],[30,2,31,8],[31,9,32,13],[31,14,32,14],[31,15,32,15],[31,16,32,16],[31,17,32,17],[31,18,32,18],[31,19,32,19],[31,20,32,20],[31,21,32,21],[31,22,32,22],[31,24,32,24],[31,25,32,29],[31,30,32,30],[31,31,32,31],[31,32,32,32],[31,33,32,33],[31,34,32,34],[31,35,32,35],[31,36,32,36],[31,37,32,37],[31,38,32,38],[32,0,33,0],[32,1,33,1],[32,2,33,8],[33,9,34,9],[33,10,34,10],[33,11,34,11],[33,12,34,12],[33,13,34,13],[33,14,34,14],[33,15,34,15],[33,25,34,25],[33,26,34,26],[33,27,34,27],[33,28,34,28],[33,29,34,29],[33,30,34,30],[33,31,34,31],[34,0,35,0],[34,1,35,1],[34,2,35,6],[34,7,35,7],[34,8,35,8],[35,9,35,13],[36,33,37,35],[36,36,37,37],[37,2,38,2],[37,3,38,8],[37,9,38,15],[38,33,39,35],[38,36,39,37],[40,0,41,0],[40,2,41,8],[40,33,41,35],[40,36,41,37],[41,9,42,13],[41,14,42,14],[41,15,42,15],[42,0,43,0],[42,2,43,8],[42,33,43,35],[42,36,43,37],[43,9,44,9],[43,10,44,10],[43,11,44,11],[43,12,44,12],[43,13,44,13],[43,14,44,14],[43,15,44,15],[44,0,45,0],[44,2,45,8],[44,33,45,36],[44,37,45,38],[45,9,46,13],[45,14,46,14],[45,15,46,15],[46,0,47,0],[46,2,47,8],[46,33,47,36],[46,37,47,38],[47,9,48,9],[47,10,48,10],[47,11,48,11],[47,12,48,12],[47,13,48,13],[47,14,48,14],[47,15,48,15],[48,0,49,0],[48,2,49,8],[48,33,49,36],[48,37,49,38],[49,9,50,13],[49,14,50,14],[49,15,50,15],[50,0,51,0],[50,2,51,8],[50,33,51,36],[50,37,51,38],[51,9,52,9],[51,10,52,10],[51,11,52,11],[51,12,52,12],[51,13,52,13],[51,14,52,14],[51,15,52,15],[51,17,52,32],[52,0,53,0],[52,2,53,8],[52,33,53,36],[52,37,53,38],[53,9,54,13],[53,14,54,14],[53,15,54,15],[53,17,54,32],[54,0,55,0],[54,2,55,8],[54,33,55,36],[54,37,55,38],[55,9,56,9],[55,10,56,10],[55,11,56,11],[55,12,56,12],[55,13,56,13],[55,14,56,14],[55,15,56,15],[55,17,56,32],[56,33,57,36],[56,37,57,38]]}
[{"$f":"#REF!","v":{"$error":"#REF!"}},{"$nulls":37},{"$f":"#REF!","v":{"$error":"#REF!"}}]
[]
[null,null,"R1",{"$nulls":6},"21.-24. mesto",{"$nulls":6},"17.-20. mesto",{"$nulls":8},"R2","29.-32. mesto",{"$nulls":5},"25.-28. mesto"]
[1,null,{"$f":"IF(ISBLANK(#REF!),\"\",IF(#REF!<#REF!,#REF!,#REF!))","v":{"$error":"#REF!"}},{"$nulls":6},{"$f":"IF(ISBLANK(#REF!),\"\",IF(#REF!>#REF!,#REF!,#REF!))","v":{"$error":"#REF!"}},{"$nulls":4},{"$f":"IF(ISBLANK(#REF!),\"\",IF(#REF!>#REF!,#REF!,#REF!))","v":{"$error":"#REF!"}},{"$f":"IF(ISBLANK(#REF!),\"\",IF(#REF!>#REF!,#REF!,#REF!))","v":{"$error":"#REF!"}},{"$nulls":8},1,{"$f":"IF(ISBLANK(#REF!),\"\",IF(#REF!<#REF!,#REF!,#REF!))","v":{"$error":"#REF!"}}]
[2,null,{"$f":"IF(ISBLANK(#REF!),\"\",IF(#REF!<#REF!,#REF!,#REF!))","v":{"$error":"#REF!"}}]
[{"$nulls":9},{"$f":"IF(ISBLANK(#REF!),\"\",#REF!)","v":{"$error":"#REF!"}},{"$f":"IF(ISBLANK(#REF!),\"\",#REF!)","v":{"$error":"#REF!"}},{"$f":"IF(ISBLANK(#REF!),\"\",#REF!)","v":{"$error":"#REF!"}},{"$f":"IF(ISBLANK(#REF!),\"\",#REF!)","v":{"$error":"#REF!"}},{"$f":"IF(ISBLANK(#REF!),\"\",#REF!)","v":{"$error":"#REF!"}},{"$f":"IF(ISBLANK(#REF!),\"\",#REF!)","v":{"$error":"#REF!"}},{"$f":"IF(ISBLANK(#REF!),\"\",#REF!)","v":{"$error":"#REF!"}},{"$f":"IF(ISBLANK(#REF!),\"\",IF(#REF!>#REF!,#REF!,#REF!))","v":{"$error":"#REF!"}},{"$nulls":4},{"$f":"IF(ISBLANK(#REF!),\"\",IF(#REF!>#REF!,#REF!,#REF!))","v":{"$error":"#REF!"}},{"$f":"IF(ISBLANK(#REF!),\"\",IF(#REF!>#REF!,#REF!,#REF!))","v":{"$error":"#REF!"}},{"$nulls":9},{"$f":"IF(ISBLANK(#REF!),\"\",IF(#REF!>#REF!,#REF!,#REF!))","v":{"$error":"#REF!"}},{"$nulls":4},{"$f":"IF(ISBLANK(#REF!),\"\",IF(#REF!>#REF!,#REF!,#REF!))","v":{"$error":"#REF!"}},{"$f":"IF(ISBLANK(#REF!),\"\",IF(#REF!>#REF!,#REF!,#REF!))","v":{"$error":"#REF!"}}]
[3,null,{"$f":"IF(ISBLANK(#REF!),\"\",IF(#REF!<#REF!,#REF!,#REF!))","v":{"$error":"#REF!"}}]
[{"$nulls":9},{"$f":"IF(ISBLANK(#REF!),\"\",IF(#REF!>#REF!,#REF!,#REF!))","v":{"$error":"#REF!"}},{"$nulls":4},{"$f":"IF(ISBLANK(#REF!),\"\",IF(#REF!>#REF!,#REF!,#REF!))","v":{"$error":"#REF!"}},{"$f":"IF(ISBLANK(#REF!),\"\",IF(#REF!>#REF!,#REF!,#REF!))","v":{"$error":"#REF!"}},{"$f":"IF(ISBLANK(#REF!),\"\",#REF!)","v":{"$error":"#REF!"}},{"$f":"IF(ISBLANK(#REF!),\"\",#REF!)","v":{"$error":"#REF!"}},{"$f":"IF(ISBLANK(#REF!),\"\",#REF!)","v":{"$error":"#REF!"}},{"$f":"IF(ISBLANK(#REF!),\"\",#REF!)","v":{"$error":"#REF!"}},{"$f":"IF(ISBLANK(#REF!),\"\",#REF!)","v":{"$error":"#REF!"}},{"$f":"IF(ISBLANK(#REF!),\"\",#REF!)","v":{"$error":"#REF!"}},{"$f":"IF(ISBLANK(#REF!),\"\",#REF!)","v":{"$error":"#REF!"}},null,2,{"$f":"IF(ISBLANK(#REF!),\"\",IF(#REF!<#REF!,#REF!,#REF!))","v":{"$error":"#REF!"}},{"$nulls":6},{"$f":"IF(ISBLANK(#REF!),\"\",#REF!)","v":{"$error":"#REF!"}},{"$f":"IF(ISBLANK(#REF!),\"\",#REF!)","v":{"$error":"#REF!"}},{"$f":"IF(ISBLANK(#REF!),\"\",#REF!)","v":{"$error":"#REF!"}},{"$f":"IF(ISBLANK(#REF!),\"\",#REF!)","v":{"$error":"#REF!"}},{"$f":"IF(ISBLANK(#REF!),\"\",#REF!)","v":{"$error":"#REF!"}},{"$f":"IF(ISBLANK(#REF!),\"\",#REF!)","v":{"$error":"#REF!"}},{"$f":"IF(ISBLANK(#REF!),\"\",#REF!)","v":{"$error":"#REF!"}}]
[4,null,{"$f":"IF(ISBLANK(#REF!),\"\",IF(#REF!<#REF!,#REF!,#REF!))","v":{"$error":"#REF!"}}]
[{"$nulls":9},{"$f":"IF(ISBLANK(#REF!),\"\",#REF!)","v":{"$error":"#REF!"}},{"$f":"IF(ISBLANK(#REF!),\"\",#REF!)","v":{"$error":"#REF!"}},{"$f":"IF(ISBLANK(#REF!),\"\",#REF!)","v":{"$error":"#REF!"}},{"$f":"IF(ISBLANK(#REF!),\"\",#REF!)","v":{"$error":"#REF!"}},{"$f":"IF(ISBLANK(#REF!),\"\",#REF!)","v":{"$error":"#REF!"}},{"$f":"IF(ISBLANK(#REF!),\"\",#REF!)","v":{"$error":"#REF!"}},{"$f":"IF(ISBLANK(#REF!),\"\",#REF!)","v":{"$error":"#REF!"}}]
[5,null,{"$f":"IF(ISBLANK(#REF!),\"\",IF(#REF!<#REF!,#REF!,#REF!))","v":{"$error":"#REF!"}}]
[{"$nulls":9},{"$f":"IF(ISBLANK(#REF!),\"\",IF(#REF!>#REF!,#REF!,#REF!))","v":{"$error":"#REF!"}},{"$nulls":4},{"$f":"IF(ISBLANK(#REF!),\"\",IF(#REF!>#REF!,#REF!,#REF!))","v":{"$error":"#REF!"}},{"$f":"IF(ISBLANK(#REF!),\"\",IF(#REF!>#REF!,#REF!,#REF!))","v":{"$error":"#REF!"}},{"$nulls":8},3,{"$f":"IF(ISBLANK(#REF!),\"\",IF(#REF!<#REF!,#REF!,#REF!))","v":{"$error":"#REF!"}}]
[6,null,{"$f":"IF(ISBLANK(#REF!),\"\",IF(#REF!<#REF!,#REF!,#REF!))","v":{"$error":"#REF!"}}]
[{"$nulls":9},{"$f":"IF(ISBLANK(#REF!),\"\",#REF!)","v":{"$error":"#REF!"}},{"$f":"IF(ISBLANK(#REF!),\"\",#REF!)","v":{"$error":"#REF!"}},{"$f":"IF(ISBLANK(#REF!),\"\",#REF!)","v":{"$error":"#REF!"}},{"$f":"IF(ISBLANK(#REF!),\"\",#REF!)","v":{"$error":"#REF!"}},{"$f":"IF(ISBLANK(#REF!),\"\",#REF!)","v":{"$error":"#REF!"}},{"$f":"IF(ISBLANK(#REF!),\"\",#REF!)","v":{"$error":"#REF!"}},{"$f":"IF(ISBLANK(#REF!),\"\",#REF!)","v":{"$error":"#REF!"}},{"$f":"IF(ISBLANK(#REF!),\"\",IF(#REF!>#REF!,#REF!,#REF!))","v":{"$error":"#REF!"}},{"$nulls":4},{"$f":"IF(ISBLANK(#REF!),\"\",IF(#REF!>#REF!,#REF!,#REF!))","v":{"$error":"#REF!"}},{"$f":"IF(ISBLANK(#REF!),\"\",IF(#REF!>#REF!,#REF!,#REF!))","v":{"$error":"#REF!"}},{"$nulls":9},{"$f":"IF(ISBLANK(#REF!),\"\",IF(#REF!>#REF!,#REF!,#REF!))","v":{"$error":"#REF!"}},{"$nulls":4},{"$f":"IF(ISBLANK(#REF!),\"\",IF(#REF!>#REF!,#REF!,#REF!))","v":{"$error":"#REF!"}},{"$f":"IF(ISBLANK(#REF!),\"\",IF(#REF!>#REF!,#REF!,#REF!))","v":{"$error":"#REF!"}}]
[7,null,{"$f":"IF(ISBLANK(#REF!),\"\",IF(#REF!<#REF!,#REF!,#REF!))","v":{"$error":"#REF!"}}]
[{"$nulls":9},{"$f":"IF(ISBLANK(#REF!),\"\",IF(#REF!>#REF!,#REF!,#REF!))","v":{"$error":"#REF!"}},{"$nulls":4},{"$f":"IF(ISBLANK(#REF!),\"\",IF(#REF!>#REF!,#REF!,#REF!))","v":{"$error":"#REF!"}},{"$f":"IF(ISBLANK(#REF!),\"\",IF(#REF!>#REF!,#REF!,#REF!))","v":{"$error":"#REF!"}},{"$f":"IF(ISBLANK(#REF!),\"\",#REF!)","v":{"$error":"#REF!"}},{"$f":"IF(ISBLANK(#REF!),\"\",#REF!)","v":{"$error":"#REF!"}},{"$f":"IF(ISBLANK(#REF!),\"\",#REF!)","v":{"$error":"#REF!"}},{"$f":"IF(ISBLANK(#REF!),\"\",#REF!)","v":{"$error":"#REF!"}},{"$f":"IF(ISBLANK(#REF!),\"\",#REF!)","v":{"$error":"#REF!"}},{"$f":"IF(ISBLANK(#REF!),\"\",#REF!)","v":{"$error":"#REF!"}},{"$f":"IF(ISBLANK(#REF!),\"\",#REF!)","v":{"$error":"#REF!"}},null,4,{"$f":"IF(ISBLANK(#REF!),\"\",IF(#REF!<#REF!,#REF!,#REF!))","v":{"$error":"#REF!"}},{"$nulls":6},{"$f":"IF(ISBLANK(#REF!),\"\",#REF!)","v":{"$error":"#REF!"}},{"$f":"IF(ISBLANK(#REF!),\"\",#REF!)","v":{"$error":"#REF!"}},{"$f":"IF(ISBLANK(#REF!),\"\",#REF!)","v":{"$error":"#REF!"}},{"$f":"IF(ISBLANK(#REF!),\"\",#REF!)","v":{"$error":"#REF!"}},{"$f":"IF(ISBLANK(#REF!),\"\",#REF!)","v":{"$error":"#REF!"}},{"$f":"IF(ISBLANK(#REF!),\"\",#REF!)","v":{"$error":"#REF!"}},{"$f":"IF(ISBLANK(#REF!),\"\",#REF!)","v":{"$error":"#REF!"}}]
[8,null,{"$f":"IF(ISBLANK(#REF!),\"\",IF(#REF!<#REF!,#REF!,#REF!))","v":{"$error":"#REF!"}}]
[{"$nulls":9},{"$f":"IF(ISBLANK(#REF!),\"\",#REF!)","v":{"$error":"#REF!"}},{"$f":"IF(ISBLANK(#REF!),\"\",#REF!)","v":{"$error":"#REF!"}},{"$f":"IF(ISBLANK(#REF!),\"\",#REF!)","v":{"$error":"#REF!"}},{"$f":"IF(ISBLANK(#REF!),\"\",#REF!)","v":{"$error":"#REF!"}},{"$f":"IF(ISBLANK(#REF!),\"\",#REF!)","v":{"$error":"#REF!"}},{"$f":"IF(ISBLANK(#REF!),\"\",#REF!)","v":{"$error":"#REF!"}},{"$f":"IF(ISBLANK(#REF!),\"\",#REF!)","v":{"$error":"#REF!"}}]
[9,null,{"$f":"IF(ISBLANK(#REF!),\"\",IF(#REF!<#REF!,#REF!,#REF!))","v":{"$error":"#REF!"}}]
[{"$nulls":9},{"$f":"IF(ISBLANK(#REF!),\"\",IF(#REF!>#REF!,#REF!,#REF!))","v":{"$error":"#REF!"}},{"$nulls":4},{"$f":"IF(ISBLANK(#REF!),\"\",IF(#REF!>#REF!,#REF!,#REF!))","v":{"$error":"#REF!"}},{"$f":"IF(ISBLANK(#REF!),\"\",IF(#REF!>#REF!,#REF!,#REF!))","v":{"$error":"#REF!"}},{"$nulls":8},5,{"$f":"IF(ISBLANK(#REF!),\"\",IF(#REF!<#REF!,#REF!,#REF!))","v":{"$error":"#REF!"}}]
[10,null,{"$f":"IF(ISBLANK(#REF!),\"\",IF(#REF!<#REF!,#REF!,#REF!))","v":{"$error":"#REF!"}}]
[{"$nulls":9},{"$f":"IF(ISBLANK(#REF!),\"\",#REF!)","v":{"$error":"#REF!"}},{"$f":"IF(ISBLANK(#REF!),\"\",#REF!)","v":{"$error":"#REF!"}},{"$f":"IF(ISBLANK(#REF!),\"\",#REF!)","v":{"$error":"#REF!"}},{"$f":"IF(ISBLANK(#REF!),\"\",#REF!)","v":{"$error":"#REF!"}},{"$f":"IF(ISBLANK(#REF!),\"\",#REF!)","v":{"$error":"#REF!"}},{"$f":"IF(ISBLANK(#REF!),\"\",#REF!)","v":{"$error":"#REF!"}},{"$f":"IF(ISBLANK(#REF!),\"\",#REF!)","v":{"$error":"#REF!"}},{"$f":"IF(ISBLANK(#REF!),\"\",IF(#REF!>#REF!,#REF!,#REF!))","v":{"$error":"#REF!"}},{"$nulls":4},{"$f":"IF(ISBLANK(#REF!),\"\",IF(#REF!>#REF!,#REF!,#REF!))","v":{"$error":"#REF!"}},{"$f":"IF(ISBLANK(#REF!),\"\",IF(#REF!>#REF!,#REF!,#REF!))","v":{"$error":"#REF!"}},{"$nulls":9},{"$f":"IF(ISBLANK(#REF!),\"\",IF(#REF!>#REF!,#REF!,#REF!))","v":{"$error":"#REF!"}},{"$nulls":4},{"$f":"IF(ISBLANK(#REF!),\"\",IF(#REF!>#REF!,#REF!,#REF!))","v":{"$error":"#REF!"}},{"$f":"IF(ISBLANK(#REF!),\"\",IF(#REF!>#REF!,#REF!,#REF!))","v":{"$error":"#REF!"}}]
[11,null,{"$f":"IF(ISBLANK(#REF!),\"\",IF(#REF!<#REF!,#REF!,#REF!))","v":{"$error":"#REF!"}}]
[{"$nulls":9},{"$f":"IF(ISBLANK(#REF!),\"\",IF(#REF!>#REF!,#REF!,#REF!))","v":{"$error":"#REF!"}},{"$nulls":4},{"$f":"IF(ISBLANK(#REF!),\"\",IF(#REF!>#REF!,#REF!,#REF!))","v":{"$error":"#REF!"}},{"$f":"IF(ISBLANK(#REF!),\"\",IF(#REF!>#REF!,#REF!,#REF!))","v":{"$error":"#REF!"}},{"$f":"IF(ISBLANK(#REF!),\"\",#REF!)","v":{"$error":"#REF!"}},{"$f":"IF(ISBLANK(#REF!),\"\",#REF!)","v":{"$error":"#REF!"}},{"$f":"IF(ISBLANK(#REF!),\"\",#REF!)","v":{"$error":"#REF!"}},{"$f":"IF(ISBLANK(#REF!),\"\",#REF!)","v":{"$error":"#REF!"}},{"$f":"IF(ISBLANK(#REF!),\"\",#REF!)","v":{"$error":"#REF!"}},{"$f":"IF(ISBLANK(#REF!),\"\",#REF!)","v":{"$error":"#REF!"}},{"$f":"IF(ISBLANK(#REF!),\"\",#REF!)","v":{"$error":"#REF!"}},null,6,{"$f":"IF(ISBLANK(#REF!),\"\",IF(#REF!<#REF!,#REF!,#REF!))","v":{"$error":"#REF!"}},{"$nulls":6},{"$f":"IF(ISBLANK(#REF!),\"\",#REF!)","v":{"$error":"#REF!"}},{"$f":"IF(ISBLANK(#REF!),\"\",#REF!)","v":{"$error":"#REF!"}},{"$f":"IF(ISBLANK(#REF!),\"\",#REF!)","v":{"$error":"#REF!"}},{"$f":"IF(ISBLANK(#REF!),\"\",#REF!)","v":{"$error":"#REF!"}},{"$f":"IF(ISBLANK(#REF!),\"\",#REF!)","v":{"$error":"#REF!"}},{"$f":"IF(ISBLANK(#REF!),\"\",#REF!)","v":{"$error":"#REF!"}},{"$f":"IF(ISBLANK(#REF!),\"\",#REF!)","v":{"$error":"#REF!"}}]
[12,null,{"$f":"IF(ISBLANK(#REF!),\"\",IF(#REF!<#REF!,#REF!,#REF!))","v":{"$error":"#REF!"}}]
[{"$nulls":9},{"$f":"IF(ISBLANK(#REF!),\"\",#REF!)","v":{"$error":"#REF!"}},{"$f":"IF(ISBLANK(#REF!),\"\",#REF!)","v":{"$error":"#REF!"}},{"$f":"IF(ISBLANK(#REF!),\"\",#REF!)","v":{"$error":"#REF!"}},{"$f":"IF(ISBLANK(#REF!),\"\",#REF!)","v":{"$error":"#REF!"}},{"$f":"IF(ISBLANK(#REF!),\"\",#REF!)","v":{"$error":"#REF!"}},{"$f":"IF(ISBLANK(#REF!),\"\",#REF!)","v":{"$error":"#REF!"}},{"$f":"IF(ISBLANK(#REF!),\"\",#REF!)","v":{"$error":"#REF!"}}]
[13,null,{"$f":"IF(ISBLANK(#REF!),\"\",IF(#REF!<#REF!,#REF!,#REF!))","v":{"$error":"#REF!"}}]
[{"$nulls":9},{"$f":"IF(ISBLANK(#REF!),\"\",IF(#REF!>#REF!,#REF!,#REF!))","v":{"$error":"#REF!"}},{"$nulls":4},{"$f":"IF(ISBLANK(#REF!),\"\",IF(#REF!>#REF!,#REF!,#REF!))","v":{"$error":"#REF!"}},{"$f":"IF(ISBLANK(#REF!),\"\",IF(#REF!>#REF!,#REF!,#REF!))","v":{"$error":"#REF!"}},{"$nulls":8},7,{"$f":"IF(ISBLANK(#REF!),\"\",IF(#REF!<#REF!,#REF!,#REF!))","v":{"$error":"#REF!"}}]
[14,null,{"$f":"IF(ISBLANK(#REF!),\"\",IF(#REF!<#REF!,#REF!,#REF!))","v":{"$error":"#REF!"}}]
[{"$nulls":9},{"$f":"IF(ISBLANK(#REF!),\"\",#REF!)","v":{"$error":"#REF!"}},{"$f":"IF(ISBLANK(#REF!),\"\",#REF!)","v":{"$error":"#REF!"}},{"$f":"IF(ISBLANK(#REF!),\"\",#REF!)","v":{"$error":"#REF!"}},{"$f":"IF(ISBLANK(#REF!),\"\",#REF!)","v":{"$error":"#REF!"}},{"$f":"IF(ISBLANK(#REF!),\"\",#REF!)","v":{"$error":"#REF!"}},{"$f":"IF(ISBLANK(#REF!),\"\",#REF!)","v":{"$error":"#REF!"}},{"$f":"IF(ISBLANK(#REF!),\"\",#REF!)","v":{"$error":"#REF!"}},{"$f":"IF(ISBLANK(#REF!),\"\",IF(#REF!>#REF!,#REF!,#REF!))","v":{"$error":"#REF!"}},{"$nulls":4},{"$f":"IF(ISBLANK(#REF!),\"\",IF(#REF!>#REF!,#REF!,#REF!))","v":{"$error":"#REF!"}},{"$f":"IF(ISBLANK(#REF!),\"\",IF(#REF!>#REF!,#REF!,#REF!))","v":{"$error":"#REF!"}},{"$nulls":9},{"$f":"IF(ISBLANK(#REF!),\"\",IF(#REF!>#REF!,#REF!,#REF!))","v":{"$error":"#REF!"}},{"$nulls":4},{"$f":"IF(ISBLANK(#REF!),\"\",IF(#REF!>#REF!,#REF!,#REF!))","v":{"$error":"#REF!"}},{"$f":"IF(ISBLANK(#REF!),\"\",IF(#REF!>#REF!,#REF!,#REF!))","v":{"$error":"#REF!"}}]
[15,null,{"$f":"IF(ISBLANK(#REF!),\"\",IF(#REF!<#REF!,#REF!,#REF!))","v":{"$error":"#REF!"}}]
[{"$nulls":9},{"$f":"IF(ISBLANK(#REF!),\"\",IF(#REF!>#REF!,#REF!,#REF!))","v":{"$error":"#REF!"}},{"$nulls":4},{"$f":"IF(ISBLANK(#REF!),\"\",IF(#REF!>#REF!,#REF!,#REF!))","v":{"$error":"#REF!"}},{"$f":"IF(ISBLANK(#REF!),\"\",IF(#REF!>#REF!,#REF!,#REF!))","v":{"$error":"#REF!"}},{"$f":"IF(ISBLANK(#REF!),\"\",#REF!)","v":{"$error":"#REF!"}},{"$f":"IF(ISBLANK(#REF!),\"\",#REF!)","v":{"$error":"#REF!"}},{"$f":"IF(ISBLANK(#REF!),\"\",#REF!)","v":{"$error":"#REF!"}},{"$f":"IF(ISBLANK(#REF!),\"\",#REF!)","v":{"$error":"#REF!"}},{"$f":"IF(ISBLANK(#REF!),\"\",#REF!)","v":{"$error":"#REF!"}},{"$f":"IF(ISBLANK(#REF!),\"\",#REF!)","v":{"$error":"#REF!"}},{"$f":"IF(ISBLANK(#REF!),\"\",#REF!)","v":{"$error":"#REF!"}},null,8,{"$f":"IF(ISBLANK(#REF!),\"\",IF(#REF!<#REF!,#REF!,#REF!))","v":{"$error":"#REF!"}},{"$nulls":6},{"$f":"IF(ISBLANK(#REF!),\"\",#REF!)","v":{"$error":"#REF!"}},{"$f":"IF(ISBLANK(#REF!),\"\",#REF!)","v":{"$error":"#REF!"}},{"$f":"IF(ISBLANK(#REF!),\"\",#REF!)","v":{"$error":"#REF!"}},{"$f":"IF(ISBLANK(#REF!),\"\",#REF!)","v":{"$error":"#REF!"}},{"$f":"IF(ISBLANK(#REF!),\"\",#REF!)","v":{"$error":"#REF!"}},{"$f":"IF(ISBLANK(#REF!),\"\",#REF!)","v":{"$error":"#REF!"}},{"$f":"IF(ISBLANK(#REF!),\"\",#REF!)","v":{"$error":"#REF!"}}]
[16,null,{"$f":"IF(ISBLANK(#REF!),\"\",IF(#REF!<#REF!,#REF!,#REF!))","v":{"$error":"#REF!"}}]
[{"$nulls":9},{"$f":"IF(ISBLANK(#REF!),\"\",#REF!)","v":{"$error":"#REF!"}},{"$f":"IF(ISBLANK(#REF!),\"\",#REF!)","v":{"$error":"#REF!"}},{"$f":"IF(ISBLANK(#REF!),\"\",#REF!)","v":{"$error":"#REF!"}},{"$f":"IF(ISBLANK(#REF!),\"\",#REF!)","v":{"$error":"#REF!"}},{"$f":"IF(ISBLANK(#REF!),\"\",#REF!)","v":{"$error":"#REF!"}},{"$f":"IF(ISBLANK(#REF!),\"\",#REF!)","v":{"$error":"#REF!"}},{"$f":"IF(ISBLANK(#REF!),\"\",#REF!)","v":{"$error":"#REF!"}}]
[]
[]
[]
[null,null,"R3","13.-16. mesto",{"$nulls":5},"9.-12. mesto"]
[]
[]
[1,null,{"$f":"IF(ISBLANK(#REF!),\"\",IF(#REF!<#REF!,#REF!,#REF!))","v":{"$error":"#REF!"}}]
[{"$nulls":9},{"$f":"IF(ISBLANK(#REF!),\"\",IF(#REF!>#REF!,#REF!,#REF!))","v":{"$error":"#REF!"}},{"$nulls":4},{"$f":"IF(ISBLANK(#REF!),\"\",IF(#REF!>#REF!,#REF!,#REF!))","v":{"$error":"#REF!"}},{"$f":"IF(ISBLANK(#REF!),\"\",IF(#REF!>#REF!,#REF!,#REF!))","v":{"$error":"#REF!"}}]
[2,null,{"$f":"IF(ISBLANK(#REF!),\"\",IF(#REF!<#REF!,#REF!,#REF!))","v":{"$error":"#REF!"}}]
[{"$nulls":9},{"$f":"IF(ISBLANK(#REF!),\"\",#REF!)","v":{"$error":"#REF!"}},{"$f":"IF(ISBLANK(#REF!),\"\",#REF!)","v":{"$error":"#REF!"}},{"$f":"IF(ISBLANK(#REF!),\"\",#REF!)","v":{"$error":"#REF!"}},{"$f":"IF(ISBLANK(#REF!),\"\",#REF!)","v":{"$error":"#REF!"}},{"$f":"IF(ISBLANK(#REF!),\"\",#REF!)","v":{"$error":"#REF!"}},{"$f":"IF(ISBLANK(#REF!),\"\",#REF!)","v":{"$error":"#REF!"}},{"$f":"IF(ISBLANK(#REF!),\"\",#REF!)","v":{"$error":"#REF!"}}]
[3,null,{"$f":"IF(ISBLANK(#REF!),\"\",IF(#REF!<#REF!,#REF!,#REF!))","v":{"$error":"#REF!"}}]
[{"$nulls":9},{"$f":"IF(ISBLANK(#REF!),\"\",IF(#REF!>#REF!,#REF!,#REF!))","v":{"$error":"#REF!"}},{"$nulls":4},{"$f":"IF(ISBLANK(#REF!),\"\",IF(#REF!>#REF!,#REF!,#REF!))","v":{"$error":"#REF!"}},{"$f":"IF(ISBLANK(#REF!),\"\",IF(#REF!>#REF!,#REF!,#REF!))","v":{"$error":"#REF!"}}]
[4,null,{"$f":"IF(ISBLANK(#REF!),\"\",IF(#REF!<#REF!,#REF!,#REF!))","v":{"$error":"#REF!"}}]
[{"$nulls":9},{"$f":"IF(ISBLANK(#REF!),\"\",#REF!)","v":{"$error":"#REF!"}},{"$f":"IF(ISBLANK(#REF!),\"\",#REF!)","v":{"$error":"#REF!"}},{"$f":"IF(ISBLANK(#REF!),\"\",#REF!)","v":{"$error":"#REF!"}},{"$f":"IF(ISBLANK(#REF!),\"\",#REF!)","v":{"$error":"#REF!"}},{"$f":"IF(ISBLANK(#REF!),\"\",#REF!)","v":{"$error":"#REF!"}},{"$f":"IF(ISBLANK(#REF!),\"\",#REF!)","v":{"$error":"#REF!"}},{"$f":"IF(ISBLANK(#REF!),\"\",#REF!)","v":{"$error":"#REF!"}}]
[5,null,{"$f":"IF(ISBLANK(#REF!),\"\",IF(#REF!<#REF!,#REF!,#REF!))","v":{"$error":"#REF!"}}]
[{"$nulls":9},{"$f":"IF(ISBLANK(#REF!),\"\",IF(#REF!>#REF!,#REF!,#REF!))","v":{"$error":"#REF!"}},{"$nulls":4},{"$f":"IF(ISBLANK(#REF!),\"\",IF(#REF!>#REF!,#REF!,#REF!))","v":{"$error":"#REF!"}},{"$f":"IF(ISBLANK(#REF!),\"\",IF(#REF!>#REF!,#REF!,#REF!))","v":{"$error":"#REF!"}}]
[6,null,{"$f":"IF(ISBLANK(#REF!),\"\",IF(#REF!<#REF!,#REF!,#REF!))","v":{"$error":"#REF!"}}]
[{"$nulls":9},{"$f":"IF(ISBLANK(#REF!),\"\",#REF!)","v":{"$error":"#REF!"}},{"$f":"IF(ISBLANK(#REF!),\"\",#REF!)","v":{"$error":"#REF!"}},{"$f":"IF(ISBLANK(#REF!),\"\",#REF!)","v":{"$error":"#REF!"}},{"$f":"IF(ISBLANK(#REF!),\"\",#REF!)","v":{"$error":"#REF!"}},{"$f":"IF(ISBLANK(#REF!),\"\",#REF!)","v":{"$error":"#REF!"}},{"$f":"IF(ISBLANK(#REF!),\"\",#REF!)","v":{"$error":"#REF!"}},{"$f":"IF(ISBLANK(#REF!),\"\",#REF!)","v":{"$error":"#REF!"}},null,"R1 - igrači koji izgube u 1. kolu glavne table - po redosledu po kojem su u glavnoj tabli"]
[7,null,{"$f":"IF(ISBLANK(#REF!),\"\",IF(#REF!<#REF!,#REF!,#REF!))","v":{"$error":"#REF!"}}]
[{"$nulls":9},{"$f":"IF(ISBLANK(#REF!),\"\",IF(#REF!>#REF!,#REF!,#REF!))","v":{"$error":"#REF!"}},{"$nulls":4},{"$f":"IF(ISBLANK(#REF!),\"\",IF(#REF!>#REF!,#REF!,#REF!))","v":{"$error":"#REF!"}},{"$f":"IF(ISBLANK(#REF!),\"\",IF(#REF!>#REF!,#REF!,#REF!))","v":{"$error":"#REF!"}},null,"R2 - igrači koji izgube u 1. kolu R1 table - po redosledu po kojem su u R1 tabli"]
[8,null,{"$f":"IF(ISBLANK(#REF!),\"\",IF(#REF!<#REF!,#REF!,#REF!))","v":{"$error":"#REF!"}}]
[{"$nulls":9},{"$f":"IF(ISBLANK(#REF!),\"\",#REF!)","v":{"$error":"#REF!"}},{"$f":"IF(ISBLANK(#REF!),\"\",#REF!)","v":{"$error":"#REF!"}},{"$f":"IF(ISBLANK(#REF!),\"\",#REF!)","v":{"$error":"#REF!"}},{"$f":"IF(ISBLANK(#REF!),\"\",#REF!)","v":{"$error":"#REF!"}},{"$f":"IF(ISBLANK(#REF!),\"\",#REF!)","v":{"$error":"#REF!"}},{"$f":"IF(ISBLANK(#REF!),\"\",#REF!)","v":{"$error":"#REF!"}},{"$f":"IF(ISBLANK(#REF!),\"\",#REF!)","v":{"$error":"#REF!"}},null,"R3 - igrači koji izgube u 2. kolu glavne table - po redosledu po kojem su u glavnoj tabli"]
[]
[]
[]
[{"$f":"CONCATENATE(#REF!,\", \",#REF!)","v":{"$error":"#REF!"}},{"$nulls":37},{"$f":"#REF!","v":{"$error":"#REF!"}}]